BEGIN:VCALENDAR
VERSION:2.0
PRODID:-//casacorridor.org//NONSGML kigkonsult.se iCalcreator 2.30.10//
CALSCALE:GREGORIAN
METHOD:PUBLISH
UID:eb1fd6cc-1436-4539-a769-c731a059e418
X-WR-CALDESC:
X-WR-RELCALID:e813f58bc5f0c0ea25f949473a64302e
X-WR-TIMEZONE:America/New_York
BEGIN:VTIMEZONE
TZID:America/New_York
BEGIN:STANDARD
TZNAME:EST
DTSTART:20241103T020000
TZOFFSETFROM:-0400
TZOFFSETTO:-0500
RDATE:20251102T020000
END:STANDARD
BEGIN:DAYLIGHT
TZNAME:EDT
DTSTART:20250309T020000
TZOFFSETFROM:-0500
TZOFFSETTO:-0400
RDATE:20260308T020000
END:DAYLIGHT
END:VTIMEZONE
BEGIN:VEVENT
UID:fecd3540-b1fe-40e7-afa6-f5d6741ee01a
DTSTAMP:20260422T110304Z
DESCRIPTION:
DTSTART;TZID=America/New_York:20250412T060000
DTEND;TZID=America/New_York:20250412T060001
LOCATION:Ingleside Courts 615 Forrest Ave Athens\, TN 37303
SUMMARY:Pickleball Tournament
END:VEVENT
END:VCALENDAR
