BEGIN:VCALENDAR
VERSION:2.0
PRODID:-//casacorridor.org//NONSGML kigkonsult.se iCalcreator 2.30.10//
CALSCALE:GREGORIAN
METHOD:PUBLISH
UID:c3233a97-59fb-4101-a739-95f2983c8eed
X-WR-CALDESC:CASA Corridor of East Tennessee Presents: \nSpring Fling Fashi
 on Show and Luncheon! \n\nSt. Mary’s Catholic Church \n1291 E Madison Ave 
 Athens\, TN 37303\n\nFashions provided by The Lily Pad and Relaxed &\nRefi
 ned Menswear.\nLuncheon Catered by Michael's Casual Dining.
X-WR-RELCALID:90d6a6e4e75e4f1c4123a9b7538c2a41
X-WR-TIMEZONE:America/New_York
BEGIN:VTIMEZONE
TZID:America/New_York
BEGIN:STANDARD
TZNAME:EST
DTSTART:20241103T020000
TZOFFSETFROM:-0400
TZOFFSETTO:-0500
RDATE:20251102T020000
RDATE:20261101T020000
END:STANDARD
BEGIN:DAYLIGHT
TZNAME:EDT
DTSTART:20250309T020000
TZOFFSETFROM:-0500
TZOFFSETTO:-0400
RDATE:20260308T020000
END:DAYLIGHT
END:VTIMEZONE
BEGIN:VEVENT
UID:e0887164-70e8-493a-a590-cb20db6ec482
DTSTAMP:20260422T110530Z
DESCRIPTION:CASA Corridor of East Tennessee Presents: \nSpring Fling Fashio
 n Show and Luncheon! \n\nSt. Mary’s Catholic Church \n1291 E Madison Ave A
 thens\, TN 37303\n\nFashions provided by The Lily Pad and Relaxed &\nRefin
 ed Menswear.\nLuncheon Catered by Michael's Casual Dining.
DTSTART;TZID=America/New_York:20250510T060000
DTEND;TZID=America/New_York:20250510T060001
LOCATION:St. Mary’s Catholic Church
SUMMARY:Spring Fling
END:VEVENT
END:VCALENDAR
