BEGIN:VCALENDAR
VERSION:2.0
PRODID:-//casacorridor.org//NONSGML kigkonsult.se iCalcreator 2.30.10//
CALSCALE:GREGORIAN
METHOD:PUBLISH
UID:08620b5a-1906-4bcd-a08a-53e8e7e01745
X-WR-CALDESC:
X-WR-RELCALID:0833d9ea544e92d4ac158cf6215d378d
X-WR-TIMEZONE:America/New_York
BEGIN:VTIMEZONE
TZID:America/New_York
BEGIN:STANDARD
TZNAME:EST
DTSTART:20251102T020000
TZOFFSETFROM:-0400
TZOFFSETTO:-0500
RDATE:20261101T020000
END:STANDARD
BEGIN:DAYLIGHT
TZNAME:EDT
DTSTART:20250309T020000
TZOFFSETFROM:-0500
TZOFFSETTO:-0400
RDATE:20260308T020000
RDATE:20270314T020000
END:DAYLIGHT
END:VTIMEZONE
BEGIN:VEVENT
UID:75619228-865e-43b6-b1e9-caefe1e6179a
DTSTAMP:20260422T110352Z
DESCRIPTION:
DTSTART;TZID=America/New_York:20251205T183000
DTEND;TZID=America/New_York:20251205T210000
LOCATION:The Barn @ Faith Farms\, 136 CR 260\, Athens\, TN 37303 US
SUMMARY:Red Shoe Gala
END:VEVENT
END:VCALENDAR
